BEGIN:VCALENDAR
VERSION:2.0
PRODID:-//The Art and Craft Retreats Company - ECPv6.15.20//NONSGML v1.0//EN
CALSCALE:GREGORIAN
METHOD:PUBLISH
X-ORIGINAL-URL:https://artandcraftretreats.co.uk
X-WR-CALDESC:Events for The Art and Craft Retreats Company
REFRESH-INTERVAL;VALUE=DURATION:PT1H
X-Robots-Tag:noindex
X-PUBLISHED-TTL:PT1H
BEGIN:VTIMEZONE
TZID:Europe/London
BEGIN:DAYLIGHT
TZOFFSETFROM:+0000
TZOFFSETTO:+0100
TZNAME:BST
DTSTART:20250330T010000
END:DAYLIGHT
BEGIN:STANDARD
TZOFFSETFROM:+0100
TZOFFSETTO:+0000
TZNAME:GMT
DTSTART:20251026T010000
END:STANDARD
BEGIN:DAYLIGHT
TZOFFSETFROM:+0000
TZOFFSETTO:+0100
TZNAME:BST
DTSTART:20260329T010000
END:DAYLIGHT
BEGIN:STANDARD
TZOFFSETFROM:+0100
TZOFFSETTO:+0000
TZNAME:GMT
DTSTART:20261025T010000
END:STANDARD
BEGIN:DAYLIGHT
TZOFFSETFROM:+0000
TZOFFSETTO:+0100
TZNAME:BST
DTSTART:20270328T010000
END:DAYLIGHT
BEGIN:STANDARD
TZOFFSETFROM:+0100
TZOFFSETTO:+0000
TZNAME:GMT
DTSTART:20271031T010000
END:STANDARD
END:VTIMEZONE
BEGIN:VEVENT
DTSTART;TZID=Europe/London:20260619T160000
DTEND;TZID=Europe/London:20260622T170000
DTSTAMP:20260420T211400
CREATED:20250822T082713Z
LAST-MODIFIED:20260105T105051Z
UID:10000010-1781884800-1782147600@artandcraftretreats.co.uk
SUMMARY:Luxury Crochet Retreat - 19th-22nd June - Grange-Over-Sands
DESCRIPTION:Luxury Crochet Retreat – 19th-22nd June 2026 – The Grange Hotel – Grange-over-Sands\, Lake District The Grange Hotel \n     \nUnwind\, create and crochet in style! \nEscape to the Lake District to a luxury crochet retreat where yarn\, creativity and breathtaking scenery come together. Across the weekend\, you’ll be guided through inspiring workshops by three expert tutors\, surrounded by fellow makers\, and the tranquillity of the Lake District. With every stitch\, enjoy the chance to slow down\, indulge in beautiful materials\, and take home both new skills and treasured handmade pieces. \nWhether you’re new to crochet or a yarn pro – this retreat promises to have something for everyone! \n**This crochet retreat is open to all skill levels\, and we’ll kick things off with a relaxed two-hour beginner session perfect for complete begginers or anyone who needs a refresher** \nWith limited spaces available\, this is a rare opportunity totreat yourself to something truly special. Don’t miss your chance to be part of it! \n What to Expect: Full Package \n\n3-night cost (residential package) = £899 for single occupancy (accessible\, double/twin available upon request)\nLocation: The Grange Hotel\, Lake District\nDates: 19th-22th June 2026\nAll meals included – breakfast\, lunch\, dinner and refreshments\nWorkshops led by 3 expert tutors: Sam Sabido\, Claire Montgomerie and Claire Gelder \nAll materials included\nFree parking at the venue.\nAn opportunity to relax\, create\, and connect in luxury.\n\nWhat to Expect: Non-Residential stay (for 2 days) \n\n2 day full workshop and instruction = £499\nLocation: The Grange Hotel\, Lake District\nDates: 20th and 21stth June 2026\nLunch each day and refreshements throughtout the 2 days\nWorkshops led by 3 expert tutors: Sam Sabido\, Claire Montgomerie and Claire Gelder \nAll materials included\nFree parking at the venue.\nAn opportunity to relax\, create\, and connect in luxury.\n\n————————————————————————————————————————————————————————————————————————————————————————– \nDiscover your expert tutors for the retreat \nSam Sabido \nSam Sabido is a crochet designer\, author\, and passionate teacher known for her creative approach to modern crochet. As the author of the bestselling My Granny Square Wardrobe\, Sam has inspired makers of all levels to explore colour\, texture\, and wearable design.A regular guest on Sewing Street and Yarn Lane\, she shares her latest projects\, techniques\, and on-air tutorials\, guiding viewers through makes such as her popular Beaded Flower Bag and Sail Away Crochet Top. Sam’s warm teaching style and love for the craft make her a trusted voice in the crochet community. \nProject: You will crochet your own Sunshine Shrug. This will be designed especially for the OACR and so the exact design won’t be revealed until you arrive but the style will be very similar to the one pictured. The shrug will be constructed from large\, lacy floral granny squares. Sam will teach you how to make the granny squares and how to join them to assemble them into a shrug to fit you. You will need to finish it in your own time but you will learn all the skills necessary to do this and it is a surprisingly quick and easy make! \n   \n📸 Instagram: @samsabidocrochet \nClaire Montgomerie – is a textiles designer\, author\, stylist\, teacher and craft editor. She has authored and edited many craft books and magazines\, is a stylist for craft publications and has been teaching knitting and crochet workshops for over 20 years. \nHer latest titles are The Beginners Guide to Crochet by Search Press and the bestselling Granny Square Card Deck series\, which now consists of three titles: The Granny Square Card Deck\, The Granny Square Flowers Card Deck and the Granny Square Stitches Card deck.\nProject: Choose a project from one of her three bestselling Granny Square card decks and create a stunning crochet piece. \n    \n📸 Instagram:@clairemontyknits \nClaire Gelder – is the founder of Wool Couture and a bestselling author with Search Press\, known for bringing traditional crafts like knitting\, crochet\, and macramé into the modern age with style and creativity. A former NHS Director turned creative entrepreneur\, Claire appeared on BBC’s Dragons’ Den in 2017\, securing investment to grow her award-winning brand. Passionate about the therapeutic benefits of making\, she inspires others to find joy\, mindfulness\, and connection through craft. \nProject: Create an exclusive crochet sheep\, inspired by the Lake District. All materials provided. \n   \n📸 Instagram:@clairegelder_uk  \n————————————————————————————————————————————————————————————————————————————————————————– \nBooking and Payment Details \nSecure your place today by paying via Bank Transfer or PayPal. You’ll find all the details below. \nThere are 2 payment options. You can secure your place with a non-refundable deposit of £300 or you can pay in full. You can choose which works best for you and complete this booking process by following the Paypal link provided or paying via bank transfer. \nBank Transfer Details: \n(If paying by bank transfer\, please email enquiries@artandcraftretreats.co.uk to confirm payment has been sent. We will reply with confirmation.) \nAccount Name: Arts and Crafts Retreats LTD \nSort Code: 04-00-03 \nAccount Number: 04487572 \nPayment Reference: Your Name \nPayPal Link: \nhttps://www.paypal.com/ncp/payment/SKGQXYH374UF8 \nNew for 2026 – Payment Plans\nIf you’d like to pay for the retreat using a payment plan\, we can offer monthly payments via bank transfer. Simply email us and we’ll be happy to arrange this for you (enquiries@artandcraftretreats.co.uk) \nEnquiries / Further Information \nIf you have any questions or require any further information\, please feel free to contact us at enquiries@artandcraftretreats.co.uk\, or visit our website www.artandcraftretreats.co.uk for details on all future retreats and featured tutors. \nThe Art and Craft Retreats Team \n————————————————————————————————————————————————————————————————————————————————————————– \n  \n**Terms and Conditions** \nTo secure your place\, a £300 non-refundable deposit is required. The final balance is due 10 weeks before the retreat. Cancellations after the final payment are non-refundable. Payment plans can be arranged if needed. \n“We advise all guests to purchase adequate travel insurance at the time of booking. This will ensure you are covered in the event of illness\, unexpected travel issues\, or the need to cancel.” \n*A full list of terms and conditions is listed under the ‘Terms and Conditions* on the company website \n 
URL:https://artandcraftretreats.co.uk/event/luxury-crochet-retreat/
LOCATION:The Grange Hotel\, Grange Hotel\, Station Square\,\, Grange-over-Sands\, Lake District\, LA11 6EJ\, United Kingdom
CATEGORIES:Crochet and Knitting
ATTACH;FMTTYPE=image/jpeg:https://artandcraftretreats.co.uk/wp-content/uploads/2025/08/Crochet-Retreat-Sales-Page-2.jpg
ORGANIZER;CN="James Wheeler":MAILTO:enquiries@artandcraftretreats.co.uk
END:VEVENT
END:VCALENDAR