BEGIN:VCALENDAR
VERSION:2.0
PRODID:-//The Art and Craft Retreats Company - ECPv6.15.20//NONSGML v1.0//EN
CALSCALE:GREGORIAN
METHOD:PUBLISH
X-WR-CALNAME:The Art and Craft Retreats Company
X-ORIGINAL-URL:https://artandcraftretreats.co.uk
X-WR-CALDESC:Events for The Art and Craft Retreats Company
REFRESH-INTERVAL;VALUE=DURATION:PT1H
X-Robots-Tag:noindex
X-PUBLISHED-TTL:PT1H
BEGIN:VTIMEZONE
TZID:Europe/London
BEGIN:DAYLIGHT
TZOFFSETFROM:+0000
TZOFFSETTO:+0100
TZNAME:BST
DTSTART:20250330T010000
END:DAYLIGHT
BEGIN:STANDARD
TZOFFSETFROM:+0100
TZOFFSETTO:+0000
TZNAME:GMT
DTSTART:20251026T010000
END:STANDARD
BEGIN:DAYLIGHT
TZOFFSETFROM:+0000
TZOFFSETTO:+0100
TZNAME:BST
DTSTART:20260329T010000
END:DAYLIGHT
BEGIN:STANDARD
TZOFFSETFROM:+0100
TZOFFSETTO:+0000
TZNAME:GMT
DTSTART:20261025T010000
END:STANDARD
BEGIN:DAYLIGHT
TZOFFSETFROM:+0000
TZOFFSETTO:+0100
TZNAME:BST
DTSTART:20270328T010000
END:DAYLIGHT
BEGIN:STANDARD
TZOFFSETFROM:+0100
TZOFFSETTO:+0000
TZNAME:GMT
DTSTART:20271031T010000
END:STANDARD
END:VTIMEZONE
BEGIN:VEVENT
DTSTART;TZID=Europe/London:20261005T150000
DTEND;TZID=Europe/London:20261008T170000
DTSTAMP:20260421T014551
CREATED:20251205T163820Z
LAST-MODIFIED:20260105T105510Z
UID:10000017-1791212400-1791478800@artandcraftretreats.co.uk
SUMMARY:Carolyn Forster Quilting Retreat - Tunbridge Wells
DESCRIPTION:  Event – Carolyn Forster Quilting Retreat – Tunbridge Wells – 5th – 8th October 2026 Spa Hotel Tunbridge Wells  \n  \nVenue – The Spa Hotel\, Tunbridge Wells \nFull Retreat Price – £999  \nNon Residential Price £599  \n(5% discount applied if paid in full see T+C’s) \n————————————————————————————————————————————————————————————————————————————————————————– \nWelcome to our Luxury Quilting Retreat 2026 with Carolyn Forster the Quilting Queen 🙂 \nWe are delighted to invite you to an unforgettable creative escape at the Spa Hotel in Tunbridge Wells\, set amidst 14 acres of beautiful\, tranquil grounds. \nThis will be Carolyn’s first hometown retreat\, making it an especially unique and personal experience. The retreat will take place from 5th–8th October 2026 (3 nights)\, and spaces are limited to 12 residential places\, ensuring a highly personal\, tailored experience for every participant. \nWe’re also pleased to confirm that the venue is fully accessible\, so all guests can enjoy the retreat comfortably and without limitations. \n————————————————————————————————————————————————————————————————————————————————————————– \nABOUT THE RETREAT \nThis immersive retreat is designed for sewists of all abilities — from enthusiastic beginners to confident makers looking to refine their skills. Over the retreat\, you’ll enjoy expert-led workshops\, personalised guidance\, and plenty of hands-on sewing time in a friendly\, inspiring environment. \nYour weekend will be guided by our exceptional tutor: \nMeet Your Tutor: Carolyn Forster \nCelebrated British quilter and textile artist\, Carolyn Forster studied textiles in Bath and holds a City & Guilds qualification in Patchwork and Quilting. Over her career\, she has been featured in international magazines and on UK and US television\, sharing her expertise and passion for quilting with audiences around the world. \nCarolyn is renowned for her friendly\, approachable teaching style\, making complex techniques accessible to makers of all levels. She specialises in quilt-as-you-go techniques and enjoys inspiring students to experiment with creative layouts\, fabrics\, and embellishments. \nIn addition to teaching\, Carolyn has authored multiple bestselling quilting books\, contributed patterns to well-known publications\, and runs workshops internationally\, bringing a wealth of experience and knowledge to every class. Her teaching encourages confidence\, experimentation\, and a love of textile creativity\, ensuring every participant leaves with skills they can use for a lifetime of sewing projects. \nIncluded in your retreat price – £999 \n\n   Three nights’ accommodation at the stunning Spa Hotel\, Tunbridge Wells\, in a spacious\, top-end room with bed & breakfast\n• Three full days of expert-led sewing workshops with Carolyn Forster• All materials\, kits\, and sewing supplies included (unless otherwise noted)\n• Exclusive new patterns and templates released specially for the retreat\n• A mini project inspired by Tunbridge Wells Ware with kit supplied\n• Opportunity to bring your own patterns or projects for one-on-one time with Carolyn\n• Lunch provided each day and refreshments throughout the day\n• Afternoon outing to a local museum for a creative and cultural experience (optional on the Thursday)\n• Fully accessible venue for all guests\n• Price: £999\n\nOptional Day Delegate- £599 \n\n Three full days of expert-led sewing workshops with Carolyn Forster\n• All materials\, kits\, and sewing supplies included (unless otherwise noted)\n• Exclusive new patterns and templates released specially for the retreat\n• A mini project inspired by Tunbridge Wells Ware with kit supplied\n• Opportunity to bring your own patterns or projects for one-on-one time with Carolyn\n• Lunch provided each day and refreshments throughout the day\n• Afternoon outing to a local museum for a creative and cultural experience (optional on the Thursday)\n• Fully accessible venue for all guests\n• Price: £599\n\n————————————————————————————————————————————————————————————————————————————————————————– \nPROJECT OVERVIEW \n   \nThis retreat offers participants a unique opportunity to explore a range of sewing techniques\, guided by Carolyn Forster. \nAcross two immersive days\, attendees will work on multiple projects\, blending creativity\, skill-building\, and personal expression in a supportive environment. \nParticipants will: \n\nCreate an exclusive hand-pieced retreat pattern\, released specially for attendees\, with a full set of templates included.\nWork on a mini project inspired by the historic Tunbridge Wells Ware\, machine-sewn\, with kits provided.\nHave the opportunity to bring their own project or pattern from Carolyn’s books for one-on-one guidance.\n\nKey Techniques & Skills Covered \nParticipants will learn and apply: \n\nQuilt-as-you-go techniques\, including mini quilts inspired by Siddi traditions from India\nCreative use of fabric scraps to make 10-inch sampler quilts\nHand and machine piecing\, applique\, and embellishment techniques\n\nLearning Objectives \nBy the end of the retreat\, participants will be able to: \n\nExecute both hand and machine piecing with precision\nApply applique and embellishment techniques to small and medium-sized projects\nUnderstand and apply quilt-as-you-go methods for sampler quilts\nPlan and execute projects using pattern reading\, cutting\, and layout strategies\nCreate unique\, personalised textile projects using both provided patterns and their own designs\n\nProject Outcomes \nParticipants will leave the retreat with: \n\nA finished hand-pieced retreat project\nA mini Tunbridge Wells Ware-inspired project completed during the sessions\nOptional progress on their own ongoing project with expert input\nA collection of techniques and skills to use in future quilting and sewing projects\nIncreased confidence and inspiration to explore new creative ideas\n\nMaterials & Resources Provided \n\nAll fabrics\, kits\, templates\, and sewing supplies for retreat projects\nOne-on-one guidance with Carolyn for personal projects\n\n————————————————————————————————————————————————————————————————————————————————————————– \nPayment & Booking Information \nTo reserve your spot\, a £300 non-refundable deposit can now be paid either by Bank Transfer or via a secured PayPal link (details below) \nDeposit by Bank Transfer Bank Transfer \nBank Transfer Details: (If paying by bank transfer\, please email enquiries@artandcraftretreats.co.uk to confirm payment has been sent. We will reply with confirmation.) \nAccount Name: Art and Craft Retreats LTD\nSort Code: 04-00-03\nAccount Number: 04487572\nPayment Reference: Your Name \nDeposit by PayPal link below: \nPayPal link: \nClick Here to Pay Deposit Via PalPal \nWe expect this retreat to fill quickly due to the high level of interest\, so early booking is recommended. \nNew for 2026 – Payment Plans\nIf you’d like to pay for the retreat using a payment plan\, we can offer monthly payments via bank transfer. Simply email us and we’ll be happy to arrange this for you (enquiries@artandcraftretreats.co.uk) \nEnquiries / Further Information \nIf you have any questions or require any further information\, please feel free to contact us at enquiries@artandcraftretreats.co.uk\, or visit our website www.artandcraftretreats.co.uk for details on all future retreats and featured tutors. \nThe Art and Craft Retreats Team  \n————————————————————————————————————————————————————————————————————————————————————————– \n**Terms and Conditions** \nTo secure your place\, a £300 non-refundable deposit is required.\nThe final balance is due 10 weeks before the retreat.\nCancellations after the final payment are non-refundable.\nPayment plans can be arranged on request. \nA full list of terms and conditions can be found on our website. \nWe advise all guests to purchase adequate travel insurance at the time of booking. This will ensure you are covered in the event of illness\, unexpected travel issues\, or the need to cancel. \n*5% off the full retreat price applies to booking paid in full** – Available only on Bank Transfer Payments. \n 
URL:https://artandcraftretreats.co.uk/event/carolyn-forster-quilting-retreat-tunbridge-wells/
LOCATION:The Spa Hotel – Tunbridge Wells\, Langton Road\, Royal Tunbridge Wells\, TN4 8XJ\, United Kingdom
CATEGORIES:Sewing
ATTACH;FMTTYPE=image/jpeg:https://artandcraftretreats.co.uk/wp-content/uploads/2025/12/Carolyn-Forster-Retreat-Website-1.jpg
END:VEVENT
BEGIN:VEVENT
DTSTART;TZID=Europe/London:20261013T150000
DTEND;TZID=Europe/London:20261015T170000
DTSTAMP:20260421T014551
CREATED:20251127T140314Z
LAST-MODIFIED:20260102T122637Z
UID:10000016-1791903600-1792083600@artandcraftretreats.co.uk
SUMMARY:3D Hand & Beaded Embroidery Retreat
DESCRIPTION:3D Hand & Beaded Embroidery Retreat – Bailbrook House Bath 13th – 15th October @ Bailbrook House Hotel Bath \n    \nThis immersive two-day retreat is designed for all skill levels\, from beginners to advanced embroiderers. Across the weekend\, you’ll enjoy a balance of structured sessions\, hands-on practice\, and personal project time\, guided by our expert tutors: \n\nRuth Hughes – Ruth brings years of embroidery teaching experience\, specialising in hand embroidery foundations\, texture\, and stitch mastery. She provides clear demonstrations and supports all skill levels to develop confidence and precision in their work.\n\n \n\nImogen Melissa – Imogen is a specialist in 3D beaded embroidery\, with expertise in advanced embellishments\, beadwork\, and composition. She nurtures experimentation\, creativity\, and technical skill in a supportive environment.\n\n \n————————————————————————————————————————————————————————————————————————————————————————– \nIncluded in the Retreat (Full Package) \n\n2 days of immersive workshops with expert tuition\nPrivate dining each evening with a three-course à la carte menu\n2 course buffet lunch both days\nAll materials provided\, including embroidery hoops\, fabrics\, threads\, beads\, sequins\, and tools\nSupportive and inclusive learning environment for all abilities\nUnlimited refreshemnts all day included homemade cakes and savouries\nHotel fully accessible for wheelchair users\nPrice: £829\nPayment plans available\n\nIncluded in the Retreat (Non-Residential Package) \n\nTwo full days of immersive workshops with expert tuition\n2 course buffet lunch both days\nAll materials provided\, including embroidery hoops\, fabrics\, threads\, beads\, sequins\, and tools\nA supportive and inclusive learning environment suitable for all abilities\nUnlimited refreshemnts all day included homemade cakes and savouries\nHotel and workshop areas fully accessible for wheelchair users\nPrice: £479\n\n————————————————————————————————————————————————————————————————————————————————————————– \nWhat You’ll Learn \n\nEssential hand embroidery stitches (running stitch\, satin stitch\, French knots\, bullion stitch\, and more)\nAdvanced techniques including 3D and textured stitches\, shading\, layering\, and fabric manipulation\nWoven Picot\, Cast-On Stitch and Needle Weaving\nBeading and embellishment techniques for creating flowers\, motifs\, and abstract elements\nDesign transfer\, colour selection\, and composition skills\nHow to integrate beadwork and sequins with hand embroidery\nCompleting a personal project while experiencing embroidery as a mindful\, meditative practice\n\nSample Schedule Highlights \nDay 1: Foundations \n\nMorning & Afternoon Sessions: Introduction to hand embroidery and 3D beading\, basic stitches\, fabric and colour selection\, sampler practice\, guided experimentation\, group discussion\n\nDay 2: Depth & Creativity \n\nMorning & Afternoon Sessions: Advanced stitching\, embellishment\, finishing techniques\, personal project completion\, group sharing\, and reflection\n\nOutcomes \nBy the end of the retreat\, participants will leave with: \n\nA completed embroidery project and exploratory practice pieces\nStitch guides\, project ideas\, and inspiration handouts\nRenewed confidence and understanding of 3D hand & beaded embroidery\nEnhanced creative expression through embellishment and beading\nA sense of community and relaxation from a mindful creative weekend\n\n————————————————————————————————————————————————————————————————————————————————————————– \n Payment & Booking Information ** \nTo register your interest or if you have any questions please email – enquiries@artandcraftretreats.co.uk \n\nTo secure your place\, a £300 non-refundable deposit is required.\nThe final balance is due 10 weeks before the retreat (this means the remaining payment must be made 10 weeks prior to the first day of the retreat).\nCancellations after the final payment are non-refundable.\nIf you wish to pay in instalments\, this can be arranged — just let us know.\n\nTo pay a deposit by Bank Transfer (our preferred method) the details are as follow: \nBank Transfer Details: (If paying by bank transfer\, please email enquiries@artandcraftretreats.co.uk to confirm payment has been sent. We will reply with confirmation.) \nAccount Name: Arts and Crafts Retreats LTD \nSort Code: 04-00-03 \nAccount Number: 04487572 \nPayment Reference: Your Name \nAlternatively you can pay the deposit via the PayPal link below:  \nhttps://www.paypal.com/ncp/payment/VC4WUNV5F3PDE \nWe also have 5 non-residential places available for this retreat which includes \n\nAll your materials\nLunch both days\nAll the workshops\nUnlimited refreshments\n£479 total price (please email for further details)\n\nWe can’t wait to welcome you for this inspiring weekend of creativity\, skill-building\, and connection! \n**Terms and Conditions** \nTo secure your place\, a £300 non-refundable deposit is required.\nThe final balance is due 10 weeks before the retreat.\nCancellations after the final payment are non-refundable.\nPayment plans can be arranged on request. \nA full list of terms and conditions can be found on our website. \nWe advise all guests to purchase adequate travel insurance at the time of booking. This will ensure you are covered in the event of illness\, unexpected travel issues\, or the need to cancel. \n  \n 
URL:https://artandcraftretreats.co.uk/event/3d-hand-beaded-embroidery-retreat/
LOCATION:Bailbrook House\, Bath\, Eveleigh Avenue\, London Road West\, Bath\, Somerset\, BA1 7JD\, United Kingdom
CATEGORIES:Embroidery and Textiles
ATTACH;FMTTYPE=image/jpeg:https://artandcraftretreats.co.uk/wp-content/uploads/2025/11/Untitled-design.jpg
END:VEVENT
END:VCALENDAR