BEGIN:VCALENDAR
VERSION:2.0
PRODID:-//The Art and Craft Retreats Company - ECPv6.15.20//NONSGML v1.0//EN
CALSCALE:GREGORIAN
METHOD:PUBLISH
X-WR-CALNAME:The Art and Craft Retreats Company
X-ORIGINAL-URL:https://artandcraftretreats.co.uk
X-WR-CALDESC:Events for The Art and Craft Retreats Company
REFRESH-INTERVAL;VALUE=DURATION:PT1H
X-Robots-Tag:noindex
X-PUBLISHED-TTL:PT1H
BEGIN:VTIMEZONE
TZID:Europe/London
BEGIN:DAYLIGHT
TZOFFSETFROM:+0000
TZOFFSETTO:+0100
TZNAME:BST
DTSTART:20250330T010000
END:DAYLIGHT
BEGIN:STANDARD
TZOFFSETFROM:+0100
TZOFFSETTO:+0000
TZNAME:GMT
DTSTART:20251026T010000
END:STANDARD
BEGIN:DAYLIGHT
TZOFFSETFROM:+0000
TZOFFSETTO:+0100
TZNAME:BST
DTSTART:20260329T010000
END:DAYLIGHT
BEGIN:STANDARD
TZOFFSETFROM:+0100
TZOFFSETTO:+0000
TZNAME:GMT
DTSTART:20261025T010000
END:STANDARD
BEGIN:DAYLIGHT
TZOFFSETFROM:+0000
TZOFFSETTO:+0100
TZNAME:BST
DTSTART:20270328T010000
END:DAYLIGHT
BEGIN:STANDARD
TZOFFSETFROM:+0100
TZOFFSETTO:+0000
TZNAME:GMT
DTSTART:20271031T010000
END:STANDARD
END:VTIMEZONE
BEGIN:VEVENT
DTSTART;TZID=Europe/London:20261119T100000
DTEND;TZID=Europe/London:20261121T100000
DTSTAMP:20260421T061909
CREATED:20251216T195913Z
LAST-MODIFIED:20260108T125826Z
UID:10000020-1795082400-1795255200@artandcraftretreats.co.uk
SUMMARY:Luxury Artists Retreat November 2026 - Bailbrook House\, Bath
DESCRIPTION:Luxury Artists Retreat 2026 – Bailbrook House\, Bath November 19th – 21st (Optional night 18th November) – Bailbrook House Hotel Bath \nLuxury Artists Retreat November 2026 – Bailbrook House\, Bath – Deposit £300 \n \n \nWe are thrilled to invite you to the 2026 Luxury Artist Retreat\, happening 19–21 November 2026 — with the option to arrive early on 18th November to settle in and start the weekend in style! \nAfter the incredible success of this year’s retreat — with over 60% of attendees returning — we can’t wait to welcome both new and returning artists for another truly unforgettable weekend. Whether you want to ignite your creativity\, learn new skills\, or connect with fellow artists\, this exclusive retreat is the perfect escape. \nSet in the stunning Bailbrook House\, Bath\, this luxurious venue is designed to inspire creativity\, relaxation\, and meaningful connections. Fully wheelchair accessible and equipped to support a wide range of needs\, the retreat promises a comfortable\, inclusive\, and truly inspiring experience for everyone. \nSpaces are limited — don’t miss your chance to be part of this creative\, transformative weekend! \n————————————————————————————————————————————————————————————————————————————– \nConfirmed Artists: We are pleased to announce all 5 artists will be returning! \nMatthew Palmer – https://watercolour.tv/ \n \nMatthew Palmer is a contemporary painter known for his vibrant use of color and bold compositions. With over 15 years of teaching experience\, he inspires artists to explore new techniques while developing their personal style. \nProject Details for the retreat – COMING SOON…… \n  \nSharon Hurst – https://www.sharonhurst.co.uk/ \n \nSharon Hurst is a mixed-media artist whose work blends traditional and experimental approaches. She brings a wealth of knowledge in both fine art and craft\, helping students to unlock their creativity and push boundaries. \nProject Details for the retreat – COMING SOON…… \n  \nJeremy Ford – https://jeremyford.co.uk/index.html \n \nJeremy Ford specializes in figurative and landscape painting\, with a focus on capturing mood and atmosphere. His approachable teaching style makes complex techniques accessible\, encouraging artists of all levels to grow and experiment. \nProject Details for the retreat – COMING SOON…… \n  \nDenise Allen – https://www.deniseallen.co.uk/ \n \nDenise Allen is an acclaimed watercolor and acrylic artist whose work emphasizes light\, texture\, and emotion. She is passionate about guiding students to find their unique voice and gain confidence in their art. \nProject Details for the retreat – COMING SOON…… \n  \nAli Hargreaves – https://alisart.co.uk/ \n \nAli Hargreaves is known for her vibrant\, expressive paintings that celebrate colour\, texture\, and joy. Her work often blends intuitive mark-making with bold layers\, creating pieces full of movement and energy. Ali’s playful approach encourages creativity without boundaries\, inspiring students to explore their own artistic voice. \nProject Details for the retreat – COMING SOON…… \n————————————————————————————————————————————————————————————————————————————– \nWhats’ included – Resident Retreat Cost: £899 \n\nTwo-night stay (19th–21st November) includes:\nAccommodation at Bailbrook House with breakfast each morning\nBuffet and menu choices available for all meals\nAll premium materials for every workshop\nExpert-led workshops with our confirmed artists\nDinner each night – a la carte 3-course meal\nLunch each day – delicious 2-course buffet lunches\nUnlimited refreshments throughout\, including homemade cakes\, pastries\, soft drinks\, chocolate bars\, and sweets\nEvening activities\, entertainment\, and opportunities to connect with fellow artists\n\nWhat’s Non-Residential Places: £499 (limited to 5 places) \nFor those who want the full retreat experience without overnight accommodation: \n\nAll premium materials for every workshop\nExpert-led workshops with our confirmed artists\nLunch each day – delicious 2-course buffet lunches\nUnlimited refreshments throughout\, including homemade cakes\, pastries\, soft drinks\, chocolate bars\, and sweets\n\nOptional Night Before – 18th November 2026 (£180) \nFor those who wish to arrive early on 18th November\, we offer an optional night providing a relaxed opportunity to settle in before the retreat begins. This includes: \n\nBed and Breakfast\nBuffet-style dinner with menu choices\nWelcome drinks reception to meet your fellow artists and tutors\nA chance to connect and socialize in a relaxed setting before the workshops start\n\nIf you intend to arrive on the 18th\, please could you confirm your attendance now. \n————————————————————————————————————————————————————————————————————————————– \nWhat past guests say: \n‘’A great way to treat yourself to a couple of days of painting\, meeting like-minded people\, possibly learning something new in luxury surroundings with good food and drink included. Well organised and there’s always a friendly face around for any queries and help \n“Highly recommend the Craft Retreats. Beautifully organised and the hotel\, staff and instructors were faultless. It was a brilliant couple of days with excellent tuition\, and I’ve truly made friends for life.” \n‘’Simply summed up as a very inspirational experience can’t wait for the next one. It has re- energised my painting activities’’ \nFor more reviews visit – www.artandcraftretreats.co.uk \n————————————————————————————————————————————————————————————————————————————– \nBooking / Payment Options \nTo secure your place at this in-demand retreat\, a £300 deposit is all that’s required. Deposits can be made easily via Bank Transfer or a secure PayPal link. \nBank Transfer: (If paying by bank transfer\, please email enquiries@artandcraftretreats.co.uk to confirm payment has been sent. We will reply with confirmation.) \nAccount Name: Arts and Crafts Retreats LTD \nSort Code: 04-00-03 \nAccount Number: 04487572 \nPayment Reference: Your Name \nPayPal Option; \nClick here to pay deposit by secure PayPal link \nNew for 2026 – Payment Plans\nIf you’d like to pay for the retreat using a payment plan\, we can offer monthly payments via bank transfer. Simply email us and we’ll be happy to arrange this for you (enquiries@artandcraftretreats.co.uk) \nEnquiries / Further Information \nIf you have any questions or require any further information\, please feel free to contact us at enquiries@artandcraftretreats.co.uk\, or visit our website www.artandcraftretreats.co.uk for details on all future retreats and featured tutors. \nThe Art and Craft Retreats Team  \n————————————————————————————————————————————————————————————————————————————– \n**Terms and Conditions** \nTo secure your place\, a £300 non-refundable deposit is required. The final balance is due 10 weeks before the retreat. Cancellations after the final payment are non-refundable. Payment plans can be arranged if needed. \n*A full list of T+C’s are available on our website* \n“We advise all guests to purchase adequate travel insurance at the time of booking. This will ensure you are covered in the event of illness\, unexpected travel issues\, or the need to cancel.” \n 
URL:https://artandcraftretreats.co.uk/event/luxury-artists-retreat-november-2026-bailbrook-house-bath/
LOCATION:Bailbrook House\, Bath\, Eveleigh Avenue\, London Road West\, Bath\, Somerset\, BA1 7JD\, United Kingdom
CATEGORIES:Painting, Sketching and Drawing
ATTACH;FMTTYPE=image/jpeg:https://artandcraftretreats.co.uk/wp-content/uploads/2025/12/Artists-Retreat-Website-Image.jpg
END:VEVENT
END:VCALENDAR