BEGIN:VCALENDAR
VERSION:2.0
PRODID:-//The Art and Craft Retreats Company - ECPv6.15.20//NONSGML v1.0//EN
CALSCALE:GREGORIAN
METHOD:PUBLISH
X-WR-CALNAME:The Art and Craft Retreats Company
X-ORIGINAL-URL:https://artandcraftretreats.co.uk
X-WR-CALDESC:Events for The Art and Craft Retreats Company
REFRESH-INTERVAL;VALUE=DURATION:PT1H
X-Robots-Tag:noindex
X-PUBLISHED-TTL:PT1H
BEGIN:VTIMEZONE
TZID:Europe/London
BEGIN:DAYLIGHT
TZOFFSETFROM:+0000
TZOFFSETTO:+0100
TZNAME:BST
DTSTART:20240331T010000
END:DAYLIGHT
BEGIN:STANDARD
TZOFFSETFROM:+0100
TZOFFSETTO:+0000
TZNAME:GMT
DTSTART:20241027T010000
END:STANDARD
BEGIN:DAYLIGHT
TZOFFSETFROM:+0000
TZOFFSETTO:+0100
TZNAME:BST
DTSTART:20250330T010000
END:DAYLIGHT
BEGIN:STANDARD
TZOFFSETFROM:+0100
TZOFFSETTO:+0000
TZNAME:GMT
DTSTART:20251026T010000
END:STANDARD
BEGIN:DAYLIGHT
TZOFFSETFROM:+0000
TZOFFSETTO:+0100
TZNAME:BST
DTSTART:20260329T010000
END:DAYLIGHT
BEGIN:STANDARD
TZOFFSETFROM:+0100
TZOFFSETTO:+0000
TZNAME:GMT
DTSTART:20261025T010000
END:STANDARD
END:VTIMEZONE
BEGIN:VEVENT
DTSTART;TZID=Europe/London:20251017T080000
DTEND;TZID=Europe/London:20251019T110000
DTSTAMP:20260421T020743
CREATED:20250820T162856Z
LAST-MODIFIED:20250918T141932Z
UID:10000007-1760688000-1760871600@artandcraftretreats.co.uk
SUMMARY:Luxury Hand and Machine Sewing Retreat
DESCRIPTION:🎨 Join Us for an Unforgettable Creative Getaway in Bath! ✨ \nOctober 17–19\, 2025 | Bailbrook House\, Bath\, Somerset \nWe’re thrilled to announce the very first luxury retreat from The Arts and Crafts Retreats Company and we’d love for you to be part of it! \nSet in the stunning city of Bath\, this exclusive weekend promises inspiration\, creativity\, and relaxation in a truly beautiful setting. \nWhether you’re coming to create\, unwind\, or connect with fellow makers\, our retreat is designed to nourish your soul and spark your imagination. \n🌟 What’s Included :  \n🧵🪡✂ our inspiring workshops (2 hand sewing & 2 machine sewing) \n🏨 2 nights full-board accommodation at the luxurious Bailbrook House — from dinner Friday to lunch Sunday \n🧑‍🏫 Expert tuition from 4 renowned craft tutors \n🧵 All materials & refreshments included \n🚗 Free on-site parking \n💷 Price: £899 (Single occupancy in modern hotel rooms; twin/double available on request\, check with James) \n♿ Accessible room options available\, do check with James \n👥 Only 40 spaces available \nWorkshop Highlights: \n\n     Suzie Duncan – Stitch a beautiful Alice Bag\n     Carolyn Forster – Discover Kawandi Quilting\n     Rebecca Reid – Create an Amber Makes Zippy Traycase\n     Tilly Rose – Hand sew a charming Vintage Memory Keeper\n\nThe Deadline for deposits has now passed\, but you can still book on using Paypal at the full price of £899. \nAlternatively\, you can pay by Bank Transfer: \nBank Transfer Details:\n\n\nAccount Name: Art and Craft Retreats LTD\n\n\nSort Code: 04-00-03\n\n\nAccount No: 04487572\n\n\nReference: Your Name\n\n\nEither way\, James will be in touch with you within 24 hours. \nDo check out our DAY PASS option! \n_______________________________________________________________________ \nITINERARY \nOn arrival\, you will be assigned a group (A-C). This will be your teaching group for the weekend. If you wish to be grouped with a friend\, please let me know in advance  \n  \n\nComplimentary on-site car parking for all delegates\nDedicated hand-picked host on hand from the moment you arrive (James)\nMain meeting room hire with fast Wi-Fi Tabletop multi-plug adaptors \nTea and coffee on arrival with fresh fruit and pastries\nMorning break with tea and coffee\, fresh fruit\, savoury snacks and smoothies \nSeasonal conference lunch with main course\, salads\, freshly baked breads\, cold meat\, cheese or fish platters and dessert \nAfternoon break with tea and coffee\, fresh fruit\, sweet snacks and smoothies \nThree-course restaurant dinner or a more relaxed option on request\nFree sewing machine hire available upon request\n Overnight accommodation in a Classic bedroom\n Full traditional and continental breakfast\nThere is an option to stay the night before (16th October) or the night of the last day (19th October)\, please email any requests to James enquiries@artandcraftretreats.co.uk\n\n  \nFriday 17/10/25 \n\n0800 – 0915 Arrival and refreshments in The Brunel Suite\n0930 – 0945 Welcome meeting and introductions\n1000 – 1300 Workshop One (Refreshments available during this workshop)\n1300 – 1400 Conference Lunch in The Lansdown Restuarant\n1400 – 1700 Workshop Two (Refreshments available during this workshop)\n1700 – 1830 Own time to collect your key and freshen up\n1830 – 1900 Pre-dinner drinks \n1900 – 2000 Q+A session with the experts\n2000 – 2200 Conference Dinner in The Lansdown Restuarant\n\n**Sewing Rooms will be open until late to work on projects** \n  \nSaturday 18/10/25 \n\n0730 – 0930 Breakfast\n1000 – 1300 Workshop Three (Refreshments available during this workshop)\n1300 – 1400 Conference Lunch in The Lansdown Restuarant\n1400 – 1700 Workshop Four (Refreshments available during this workshop)\n1700 – 1830 Your time to relax \n1830 – 1900 Pre-dinner drinks\n1900-2000 Q+A session with the experts \n2000 – 2200 Conference Dinner in The Lansdown Restaurant including a Quiz hosted by John Scott\n\n**Sewing Rooms will be open until late to work on projects** \nSunday 19/10/25 \n\n0730 – 0930 Breakfast including Quiz results/prizes for the winner.\n0930 – 1100 – Farewell and Goodbyes – Take this time to relax\, reflect\, and say your goodbyes. If you’d like to continue working on your projects\, the hotel offers several comfortable rooms where you can unwind and create at your own pace..\n\nI hope you have a truly enjoyable stay and that we’ll see you again at one of our future retreats. Thank you sincerely for being part of our very first retreat—your presence has made it extra special. \nThe Deadline for deposits has now passed\, but you can still book on using Paypal at the full price of £899. \nAlternatively you can pay by Bank Transfer: \nBank Transfer Details:\n\n\nAccount Name: Art and Craft Retreats LTD\n\n\nSort Code: 04-00-03\n\n\nAccount No: 04487572\n\n\nReference: Your Name\n\n\nEither way\, James will be in touch with you within 24 hours. \nDo check out our DAY PASS option! \nJames Wheeler\nFounder\, The Art and Craft Retreats Company \n_______________________________________________________________________ \nWorkshop Information and Description \n** We will be providing irons and ironing boards** \n  \nSuzie Duncan – Alice Bag \nSuzie will guide you through creating the Alice Bag – a roomy handbag or small tote that is fully reversible. The handle is cleverly incorporated into the bag body using an innovative sewing method. \nThe design also features an optional button and loop closure. \nYou’ll have the opportunity to add extra stitching details as you construct your bag\, making each piece unique and personal. \nSuitable for all abilities. \nKit provided: Everything you need to complete the project is included.Please bring: Basic Sewing kit to include: scissors\, pins\, tape measure\, marking pen/pencil\, hand sewing needle \n  \nTilly Rose – Vintage Memory Keeper \nJoin Tilly to create your very own Vintage Memories Keeper using a beautiful selection of vintage and antique laces.\nThis project explores surface stitching\, slow stitching\, and embellishment techniques\, allowing you to craft a truly unique piece. \nSuitable for all abilities. \nPerfect for use as a journal cover or memory pocket. \nKits provided: Everything you need to complete your project is included.\nOptional: Bring your own treasured pieces from your craft stash to make your Memory Keeper extra special. \n  \nCarolyn Forster – Kawandi Quilt \nCarolyn will teach the fascinating Kawandi Quilt technique – a traditional quilt-as-you-go method originating with the Siddi people of India. \nYou’ll use fabric scraps to stitch a 10-inch square mini quilt\, practicing the characteristic elements of this beautiful design style. \nSuitable for all abilities. \nKit provided: Everything you need to complete the project is included.\nPlease bring: A basic sewing kit and any favourite fabric scraps to personalise your mini quilt. \n*Basic sewing Kit to include:   \n\nFabric scissors \nThread snips/small scissors \nShort applique pins if you have them\, if not regular pins \nThimbles if you use them \nNeedles you can thread with 12wt thread. I do supply needles (embroidery size6 and Between size 6)\, but you may want your own. \n\n  \nRebecca Reid (Amber Makes) – Zippy Tray case \nRebecca will teach you how to make the Zippy Traycase and you’ll learn how to insert a zip and make this clever zipped Traycase with matching mini pouch. It features original Amber Makes illustrations of a collection of sewing tools and accessories with a vintage vibe. \nSuitable for all abilities. \nKit provided: Everything you need to complete the project is included.  \nPlease bring:  \nSewing machine (including a zip foot): If you don’t have your own\, we can provide one—just let us know in advance.  \nBasic Sewing kit to include: scissors\, pins\, tape measure\, marking pen/pencil\, hand sewing needle \nAny questions regarding the projects please email – enquiries@artandcraftretreats.co.uk \n  \n* Timings subject to change \n#EatSleepCraftRetreat \nJames Wheeler – MD
URL:https://artandcraftretreats.co.uk/event/luxury-hand-and-machine-sewing-retreat/
LOCATION:Bailbrook House\, Bath\, Eveleigh Avenue\, London Road West\, Bath\, Somerset\, BA1 7JD\, United Kingdom
CATEGORIES:Machine Sewing,Sewing
ATTACH;FMTTYPE=image/jpeg:https://artandcraftretreats.co.uk/wp-content/uploads/2025/08/Sewing-thread.jpg
ORGANIZER;CN="James Wheeler":MAILTO:enquiries@artandcraftretreats.co.uk
END:VEVENT
BEGIN:VEVENT
DTSTART;TZID=Europe/London:20251017T080000
DTEND;TZID=Europe/London:20251019T110000
DTSTAMP:20260421T020743
CREATED:20250915T075301Z
LAST-MODIFIED:20250927T085214Z
UID:10000012-1760688000-1760871600@artandcraftretreats.co.uk
SUMMARY:Luxury Hand and Machine Sewing Retreat Non Residential Package
DESCRIPTION:🎨 Join Us for an Unforgettable Creative Getaway in Bath! ✨ \nOctober 17–19\, 2025 | Bailbrook House\, Bath\, Somerset \nWe’re thrilled to announce the very first luxury retreat from The Arts and Crafts Retreats Company and we’d love for you to be part of it! \nWhether you’re coming to create\, unwind\, or connect with fellow makers\, our retreat is designed to nourish your soul and spark your imagination. \n🌟 What’s Included 😀 \nFour top sewing tutors. Two days of creativity. One unforgettable retreat. \n Join us on Friday 17th and Saturday 18th October for non-residential day retreat places —the perfect chance to learn\, stitch\, and be inspired (without the need to stay over). \n Hosted by John Scott from Sewing Street TV \n Rebecca Reid from Amber Makes \n Tilly Rose from Tilly Rose Vintage \n Carolyn Forster – Quilting in the Go \n Suzie Duncan from Sewing Street TV \nWe’re thrilled to announce that 8 non-residential places are now available on our October Sewing Retreat!  \nThese spots are perfect if you’d love to join us for a weekend of stitching\, learning\, and creativity with our fantastic tutors—without the need for accommodation. \n Spaces are limited\, so don’t miss out on this chance to grab your spot  \nWhat’s included: \n Four creative sewing workshops with expert tutors (2 hand sewing & 2 machine sewing) spread across 2 days (Friday and Saturday 17th-18th October) \n All materials for the workshops to create four stunning projects \n‍ Top tuition from four of the industry’s renowned tutors \n A chance to meet and chat with Sewing Streets TV’s celebrity John Scott \nLunch both days in a top restaurant (on-site) \n Refreshments on arrival and cakes throughout both days \n Free on-site parking \nYou can secure your place with one of two payment options: either by bank transfer or via this PayPal link\nBank Transfer Details:\n\n\nAccount Name: Art and Craft Retreats LTD\n\n\nSort Code: 04-00-03\n\n\nAccount No: 04487572\n\n\nReference: Your Name\n\n\nOnce full payment has been received\, we’ll confirm you’re booking and send your retreat itinerary.\n\nITINERARY \nFriday 17/10/25 \n\n0800 – 0915 Arrival and refreshments in The Brunel Suite\n0930 – 0945 Welcome meeting and introductions\n1000 – 1300 Workshop One (Refreshments available during this workshop)\n1300 – 1400 Conference Lunch in The Lansdown Restuarant\n1400 – 1700 Workshop Two (Refreshments available during this workshop)\n1700 – 1830 Own time to collect your key and freshen up\n1830 – 1900 Pre-dinner drinks \n1900 – 2000 Q+A session with the experts\n2000 – 2200 Conference Dinner in The Lansdown Restaurant\n\n**Sewing Rooms will be open until late to work on projects** \n  \nSaturday 18/10/25 \n\n0730 – 0930 Breakfast\n1000 – 1300 Workshop Three (Refreshments available during this workshop)\n1300 – 1400 Conference Lunch in The Lansdown Restaurant\n1400 – 1700 Workshop Four (Refreshments available during this workshop)\n1700 – 1830 Your time to relax \n1830 – 1900 Pre-dinner drinks\n1900-2000 Q+A session with the experts \n2000 – 2200 Conference Dinner in The Lansdown Restaurant including a Quiz hosted by John Scott\n\n**Sewing Rooms will be open until late to work on projects** \nSunday 19/10/25 \n\n0730 – 0930 Breakfast including Quiz results/prizes for the winner.\n0930 – 1100 – Farewell and Goodbyes – Take this time to relax\, reflect\, and say your goodbyes. If you’d like to continue working on your projects\, the hotel offers several comfortable rooms where you can unwind and create at your own pace..\n\n_______________________________________________________________________ \nWorkshop Information and Description \n** We will be providing irons and ironing boards** \n  \nSuzie Duncan – Alice Bag \nSuzie will guide you through creating the Alice Bag – a roomy handbag or small tote that is fully reversible. The handle is cleverly incorporated into the bag body using an innovative sewing method. \nThe design also features an optional button and loop closure. \nYou’ll have the opportunity to add extra stitching details as you construct your bag\, making each piece unique and personal. \nSuitable for all abilities. \nKit provided: Everything you need to complete the project is included.Please bring: Basic Sewing kit to include: scissors\, pins\, tape measure\, marking pen/pencil\, hand sewing needle \n  \nTilly Rose – Vintage Memory Keeper \nJoin Tilly to create your very own Vintage Memories Keeper using a beautiful selection of vintage and antique laces.\nThis project explores surface stitching\, slow stitching\, and embellishment techniques\, allowing you to craft a truly unique piece. \nSuitable for all abilities. \nPerfect for use as a journal cover or memory pocket. \nKits provided: Everything you need to complete your project is included.\nOptional: Bring your own treasured pieces from your craft stash to make your Memory Keeper extra special. \n  \nCarolyn Forster – Kawandi Quilt \nCarolyn will teach the fascinating Kawandi Quilt technique – a traditional quilt-as-you-go method originating with the Siddi people of India. \nYou’ll use fabric scraps to stitch a 10-inch square mini quilt\, practicing the characteristic elements of this beautiful design style. \nSuitable for all abilities. \nKit provided: Everything you need to complete the project is included.\nPlease bring: A basic sewing kit and any favourite fabric scraps to personalise your mini quilt. \n*Basic sewing Kit to include:   \n\nFabric scissors \nThread snips/small scissors \nShort applique pins if you have them\, if not regular pins \nThimbles if you use them \nNeedles you can thread with 12wt thread. I do supply needles (embroidery size6 and Between size 6)\, but you may want your own. \n\n  \nRebecca Reid (Amber Makes) – Zippy Tray case \nRebecca will teach you how to make the Zippy Traycase and you’ll learn how to insert a zip and make this clever zipped Traycase with matching mini pouch. It features original Amber Makes illustrations of a collection of sewing tools and accessories with a vintage vibe. \nSuitable for all abilities. \nKit provided: Everything you need to complete the project is included.  \nPlease bring:  \nSewing machine (including a zip foot): If you don’t have your own\, we can provide one—just let us know in advance.  \nBasic Sewing kit to include: scissors\, pins\, tape measure\, marking pen/pencil\, hand sewing needle \nAny questions regarding the projects please email – enquiries@artandcraftretreats.co.uk \n  \n Price: £499 \n Free hire of a Sewing Machine if you require one \nYou can secure your place with one of two payment options: either by bank transfer or via this PayPal link\nBank Transfer Details:\n\n\nAccount Name: Art and Craft Retreats LTD\n\n\nSort Code: 04-00-03\n\n\nAccount No: 04487572\n\n\nReference: Your Name\n\n\nOnce full payment has been received\, we’ll confirm you’re booking and send your retreat itinerary.\n* Timings subject to change \n#EatSleepCraftRetreat \nJames Wheeler – MD
URL:https://artandcraftretreats.co.uk/event/luxury-hand-and-machine-sewing-retreat-day-pass/
LOCATION:Bailbrook House\, Bath\, Eveleigh Avenue\, London Road West\, Bath\, Somerset\, BA1 7JD\, United Kingdom
CATEGORIES:Machine Sewing,Sewing
ATTACH;FMTTYPE=image/jpeg:https://artandcraftretreats.co.uk/wp-content/uploads/2025/08/Sewing-thread.jpg
ORGANIZER;CN="James Wheeler":MAILTO:enquiries@artandcraftretreats.co.uk
END:VEVENT
END:VCALENDAR