BEGIN:VCALENDAR
VERSION:2.0
PRODID:-//The Art and Craft Retreats Company - ECPv6.15.20//NONSGML v1.0//EN
CALSCALE:GREGORIAN
METHOD:PUBLISH
X-ORIGINAL-URL:https://artandcraftretreats.co.uk
X-WR-CALDESC:Events for The Art and Craft Retreats Company
REFRESH-INTERVAL;VALUE=DURATION:PT1H
X-Robots-Tag:noindex
X-PUBLISHED-TTL:PT1H
BEGIN:VTIMEZONE
TZID:Europe/London
BEGIN:DAYLIGHT
TZOFFSETFROM:+0000
TZOFFSETTO:+0100
TZNAME:BST
DTSTART:20250330T010000
END:DAYLIGHT
BEGIN:STANDARD
TZOFFSETFROM:+0100
TZOFFSETTO:+0000
TZNAME:GMT
DTSTART:20251026T010000
END:STANDARD
BEGIN:DAYLIGHT
TZOFFSETFROM:+0000
TZOFFSETTO:+0100
TZNAME:BST
DTSTART:20260329T010000
END:DAYLIGHT
BEGIN:STANDARD
TZOFFSETFROM:+0100
TZOFFSETTO:+0000
TZNAME:GMT
DTSTART:20261025T010000
END:STANDARD
BEGIN:DAYLIGHT
TZOFFSETFROM:+0000
TZOFFSETTO:+0100
TZNAME:BST
DTSTART:20270328T010000
END:DAYLIGHT
BEGIN:STANDARD
TZOFFSETFROM:+0100
TZOFFSETTO:+0000
TZNAME:GMT
DTSTART:20271031T010000
END:STANDARD
END:VTIMEZONE
BEGIN:VEVENT
DTSTART;TZID=Europe/London:20260410T080000
DTEND;TZID=Europe/London:20260412T170000
DTSTAMP:20260420T010057
CREATED:20250829T073838Z
LAST-MODIFIED:20250910T081249Z
UID:10000011-1775808000-1776013200@artandcraftretreats.co.uk
SUMMARY:Luxury Felting Retreat
DESCRIPTION:Luxury Felting Retreat – Edinburgh – April 10th-12th – £929 \nThe Art and Craft Company is delighted to announce our next creative retreat in Felting\, bringing you a wealth of inspiration\, expertise\, and memorable experiences. \nJoin tutors Jo Lochhead and Heather Plant from 10th–12th April at the beautiful Radisson Blu Edinburgh\, right in the heart of the city. Over the course of the weekend\, you’ll take part in inspiring\, hands-on workshops designed to spark creativity\, develop skills\, and leave you with projects you’ll treasure. \nAlongside the creative sessions\, you’ll enjoy dinner on both evenings at two of Edinburgh’s top local restaurants—perfect for unwinding\, connecting\, and sharing ideas with fellow retreat guests. \nWhether you’re looking to learn new techniques\, immerse yourself in a creative atmosphere\, or simply enjoy a memorable weekend in stunning surroundings\, this retreat promises to be a truly special experience. \n  \n📍 Radisson Blu\, Historical Edinburgh | 10–12 April \n🏨 2 nights of luxury accommodation in the heart of Edinburgh’s historic Old Town \n🥘 All meals included – breakfast\, lunch\, dinner & refreshments \nUse of indoor swimming pool\, gym and sauna/steam room. Treatments available at extra cost. \n🍽 Two special dinners at two of Edinburgh’s top local restaurants \n🧑‍🏫 2 full days of personal\, expert tuition from two renowned craft tutors \n🪡 Create two beautiful projects to take home \n🧵 Enjoy a supportive\, creative environment to inspire your felting journey \n☕ Refreshments served throughout the day\, including tea\, coffee\, and cakes \n🧵 All materials provided \n🚗 Free nearby parking options available \n💷 Price: £929 (single occupancy; twin/double rooms available on request) \n♿ Accessible room options available \n👥 Only 20 spaces available \n  \nJo Lochhead is the founder of The Crafty Kit Company\, a small\, passionate team based on a farm in East Lothian\, Scotland. With a mission to spread the joy of crafting\, Jo creates award-winning\, eco-conscious kits that promote well-being\, mindfulness\, and creativity. From needle felting to cross stitch\, Jo’s thoughtfully designed kits empower beginners and seasoned makers alike to craft with confidence. Jo is also the author of two books—one of which became a bestseller—and is currently writing a third\, focused on Moomin embroidery. \nHeather Plant – Heather Plant is a primary school teacher with a lifelong love of crafting. She first picked up a needle and thread at the age of four\, learning to cross stitch at school and inspired by her mother and grandmother\, both avid crafters. Over the years\, Heather has gone on to teach herself a wide range of creative skills\, including sewing\, embroidery\, crochet\, and needle-felting. She discovered needle-felting in 2020 and soon developed her own designs\, later becoming a designer for The Crafty Kit Company. Heather is currently co-authoring her debut embroidery book\, combining her passion for teaching with her love of making. \n  \n⭐ Secure your spot with a deposit of £300 (balance due 8 weeks before start date) ⭐ \n  \n📧 Register Now \nTo express your interest and request further details\, or receive payment details: \n📩 DM us or email – enquiries@artandcraftretreats.co.uk \n📞 Or call us on 07725 812580
URL:https://artandcraftretreats.co.uk/event/felting-edinburgh/
LOCATION:Raddison Blu Edinburgh\, The Royal Mile\, 80 High St\, Edinburgh\, Edinburgh City Centre\, Edinburgh\, EH1 1TH\, United Kingdom
CATEGORIES:Fibre and Felting
ATTACH;FMTTYPE=image/webp:https://artandcraftretreats.co.uk/wp-content/uploads/2025/08/Raddison-Blu-Room.webp
ORGANIZER;CN="James Wheeler":MAILTO:enquiries@artandcraftretreats.co.uk
END:VEVENT
END:VCALENDAR